BEGIN:VCALENDAR
VERSION:2.0
PRODID:icalendar-ruby
CALSCALE:GREGORIAN
X-WR-TIMEZONE:Europe/Helsinki
BEGIN:VTIMEZONE
TZID:Europe/Helsinki
BEGIN:DAYLIGHT
DTSTART:20260329T040000
TZOFFSETFROM:+0200
TZOFFSETTO:+0300
RRULE:FREQ=YEARLY;BYDAY=-1SU;BYMONTH=3
TZNAME:EEST
END:DAYLIGHT
BEGIN:STANDARD
DTSTART:20261025T030000
TZOFFSETFROM:+0300
TZOFFSETTO:+0200
RRULE:FREQ=YEARLY;BYDAY=-1SU;BYMONTH=10
TZNAME:EET
END:STANDARD
END:VTIMEZONE
BEGIN:VEVENT
DTSTAMP:20260421T114031
UID:kiekkohait.myclub.fi-10526199
DTSTART;TZID=Europe/Helsinki:20260331T130000
DTEND;TZID=Europe/Helsinki:20260331T130000
DESCRIPTION:HDI Hockey Camp – SSO-hallissa 15.5-16.5.2026 \nTervetuloa HD
 I Hockey Camp -leirille Saloon! Leirin vastuuvalmentajana toimii HDI-valme
 ntaja Petr Studnicka\, joka on työskennellyt pitkään mm. tšekin nuorte
 n maajoukkueissa ja pitänyt kansainvälisiä leirejä vuodesta 2006 alkae
 n. Petr vieraili Suomessa keväällä 2018.  https://hdihockey.ca/summer-2
 025 \nLeirin teema Hyökkäyspelitaitoihin painottuva harjoittelu (maalint
 eko ja kiekonhallinta). \nKohderyhmä Leiri on tarkoitettu U10–U12 sekä
  U13–U16-ikäluokkien pelaajille. \nAikataulu Perjantai 15.5.2026 • 17
 :00–18:30 Jääharjoitus (U10/U12) • 18:45–20:15 Jääharjoitus (U13
 /U16)\nLauantai 16.5.2026 • 10:00–11:15 Jääharjoitus (U10/U12) • 1
 1:30–12:45 Jääharjoitus (U13/U16) • 14:00–15:00 Jääharjoitus (U1
 0/U12) • 15:15–16:15 Jääharjoitus (U13/U16)  Hinta ja ilmoittautumin
 en Leirin hinta on 99 € / pelaaja. Sisältäen kolme jääharjoitusta\, 
 kaksi oheisharjoitusta sekä lounaan lauantaina. Ilmoittautumiset 30.4.202
 6 mennessä \nLisätiedot toni.elo@kiekkohait.fi\n\nhttps://kiekkohait.myc
 lub.fi/flow/events/10526199
LOCATION: SSO halli\, Tahkonkatu 1\, 24100 Salo\, Suomi
SEQUENCE:0
SUMMARY:Jääkiekkoseura Salon Kiekkohait ry: ILMOITTAUTUMINEN: HDI Hockey 
 Camp – SSO-hallissa 15.5-16.5.2026
URL;VALUE=URI:https://kiekkohait.myclub.fi/flow/events/10526199
END:VEVENT
END:VCALENDAR
