BEGIN:VCALENDAR
VERSION:2.0
PRODID:icalendar-ruby
CALSCALE:GREGORIAN
X-WR-TIMEZONE:Europe/Helsinki
BEGIN:VTIMEZONE
TZID:Europe/Helsinki
BEGIN:DAYLIGHT
DTSTART:20260329T040000
TZOFFSETFROM:+0200
TZOFFSETTO:+0300
RRULE:FREQ=YEARLY;BYDAY=-1SU;BYMONTH=3
TZNAME:EEST
END:DAYLIGHT
BEGIN:STANDARD
DTSTART:20261025T030000
TZOFFSETFROM:+0300
TZOFFSETTO:+0200
RRULE:FREQ=YEARLY;BYDAY=-1SU;BYMONTH=10
TZNAME:EET
END:STANDARD
END:VTIMEZONE
BEGIN:VEVENT
DTSTAMP:20260421T114140
UID:kiekkohait.myclub.fi-10403279
DTSTART;TZID=Europe/Helsinki:20260310T150000
DTEND;TZID=Europe/Helsinki:20260310T150000
DESCRIPTION:Salo Hockey Camp 2026!\nKesäkuun kiekkoleiri on tarkoitettu 20
 11–2018 syntyneille pelaajille.\nLeiri järjestetään Salon Urheilupuis
 tossa SSO-hallissa 1.-4.6.2026 (ma-to). Leiri on kaikille avoin! \nLeirill
 ä on yhteensä 7 jääharjoitusta. Maalivahdeille omaa harjoittelua. \nIL
 MOITTAUTUMINEN: 15.5.2026 klo 22.00 mennessä\nLeirille mukaan mahtuu 80 n
 opeinta\nRUOKA-ALLERGIAT JA LEIRIPAIDAN KOKO (TOIMITTAJAN ILMOITTAMAT SAAT
 AVILLA OLEVAT KOOT: LASTEN 110/120\, 130/140 JA 150/160\, AIKUISTEN XS-XXX
 L)\,ilmoitus toimisto@kiekkohait.fi \nLeirin valmentajat: Kiekkohaiden seu
 ravalmentajat + apuohjaajat sekä vierailevia ammattivalmentajia \nOheisla
 jeina: Monipuoliset lajit (ohjelma täydentyy myöhemmin) \nPaikka: SSO-ha
 lli\, Tahkonkatu 5\, Salo \nOhjelma: Päivät ovat kestoltaan n. klo. 8.00
 –16.00 (ma-to). \nAloitus:\nLeiri alkaa ensimmäisenä päivänä klo 7.
 45 ilmoittautumisella SSO-hallilla. Ilmoittautumisen jälkeen on leirin yh
 teinen avaus SSO-hallin ylätasanteella klo 8.15\, johon myös vanhemmat o
 vat tervetulleita. Päivän ohjelma käynnistyy ryhmäkohtaisesti heti ava
 uksen jälkeen. \nJääharjoitusryhmät:\nLeireillä on alustavasti 3 ryhm
 ää. Ryhmät muodostetaan ensisijaisesti ikäluokkien mukaan. Ryhmäjaot 
 ja ryhmien tarkempi aikataulu ilmoitetaan sähköpostitse 16.5.2026 \nHint
 a: 195 € (Sisaralennus -50 € yhdestä sisaruksesta\, alennukseen liitt
 yen yhteys toimisto@kiekkohait.fi):\nSisältää jääharjoitukset\, louna
 an ja välipalan päivittäin\, leiripaidan. \nRuokailut:\nPäivittäinen 
 Lounas. Iltapäivän välipala tarjoillaan SSO-hallilla. Jos leiriläisill
 ä on terveydellisistä syistä ruokavalioon liittyviä erityistoiveita\, 
 toivomme vanhempien vielä varmistavan ennakkoon ilmoitetut ruoka-ainealle
 rgiat henkilökunnalta heti leirin avauspäivänä. \nLeirivarustus:\nTäy
 dellinen jääkiekkovarustus\nPyyhe + shampoo + vaihtovaatteet päivittäi
 n\nLenkkitossut + sään mukainen urheiluasu\nJuomapullo \nPeruutusehdot:\
 nLääkärintodistuksella palautamme leirimaksun 100-prosenttisesti.\nEnne
 n 15.5. peruutetusta osallistumisesta palautamme 100 prosenttia\, tämän 
 jälkeen osallistuminen on sitova.\nHuom! Pelaajilla tulee olla oma vakuut
 us tai voimassa oleva jääkiekkoliiton vakuutus. Salon Kiekkohait ry:llä
  ei ole erillistä vakuutusta leirille osallistuville pelaajille (poikkeuk
 sena oman seuran pelaajat\, kenelle otetaan jääkiekkoliiton vakuutus). \
 nLisätiedot: toimisto@kiekkohait.fi\nHUOM! Salon Kiekkohait pidättää o
 ikeuden muutoksiin.\n \n\nhttps://kiekkohait.myclub.fi/flow/events/1040327
 9
LOCATION: SSO halli\, Tahkonkatu 1\, 24100 Salo\, Suomi
SEQUENCE:0
SUMMARY:Jääkiekkoseura Salon Kiekkohait ry: ILMOITTAUTUMINEN: SHC Salo Ho
 ckey Camp 2026
URL;VALUE=URI:https://kiekkohait.myclub.fi/flow/events/10403279
END:VEVENT
END:VCALENDAR
