BEGIN:VCALENDAR
VERSION:2.0
PRODID:icalendar-ruby
CALSCALE:GREGORIAN
X-WR-TIMEZONE:Europe/Helsinki
BEGIN:VTIMEZONE
TZID:Europe/Helsinki
BEGIN:DAYLIGHT
DTSTART:20260329T040000
TZOFFSETFROM:+0200
TZOFFSETTO:+0300
RRULE:FREQ=YEARLY;BYDAY=-1SU;BYMONTH=3
TZNAME:EEST
END:DAYLIGHT
BEGIN:STANDARD
DTSTART:20261025T030000
TZOFFSETFROM:+0300
TZOFFSETTO:+0200
RRULE:FREQ=YEARLY;BYDAY=-1SU;BYMONTH=10
TZNAME:EET
END:STANDARD
END:VTIMEZONE
BEGIN:VEVENT
DTSTAMP:20260421T114031
UID:kiekkohait.myclub.fi-10389052
DTSTART;TZID=Europe/Helsinki:20260306T120000
DTEND;TZID=Europe/Helsinki:20260306T120000
DESCRIPTION:Salon Kiekkohait perustaa uuden joukkueen 2018–2019 syntyneil
 le lapsille.\nKaikki jääkiekosta innostuneet lapset\, tervetuloa mukaan 
 iloiseen joukkoomme. Tärkeintä joukkueissa on iloinen ja kannustava ilma
 piiri sekä jääkiekon pelaamisen riemu!\nJoukkueeseen ilmoittautuminen o
 n käynnissä ja toiminta alkaa elokuussa. Kynnys harrastuksen aloittamise
 n on matala eli kaikki lapset rohkeasti mukaan toimintaan. Seuralta saa la
 inaksi varusteita.\nPidetään infotilaisuus / aloitus palaveri Haiparkiss
 a\, tiistaina  5.5.2026 klo 17:30\nJoukkue harjoittelee 2 kertaa viikossa.
  Lajitaitojen harjoittelu tapahtuu leikkien ja pelien kautta\, jokainen la
 psi yksilöllisesti huomioiden. Opimme myös toimimaan ryhmissä ja ottama
 an toiset huomioon. Ilmoittautuminen harjoituksiin myClubin kautta.\nKokei
 lemaan voin aina tulla!\nKaudella osallistutaan Leijona-liiga peleihin ja 
 turnauksiin.\nLisätiedot: Junioripäällikkö Tomi Mäntynen tomi.mantyne
 n@kiekkohait.fi puh. 050 4871 382\n \n\nhttps://kiekkohait.myclub.fi/flow/
 events/10389052
LOCATION:Haipark\, Tahkonkatu 5\, 24100 Salo\, Suomi
SEQUENCE:0
SUMMARY:Jääkiekkoseura Salon Kiekkohait ry: Ilmoittaudu mukaan 2018-2019 
 syntyneiden U9-joukkueeseen
URL;VALUE=URI:https://kiekkohait.myclub.fi/flow/events/10389052
END:VEVENT
END:VCALENDAR
